BEGIN:VCALENDAR
VERSION:2.0
PRODID:-//Ayvalik Belediyesi//Etkinlik Takvimi//TR
CALSCALE:GREGORIAN
METHOD:PUBLISH
BEGIN:VEVENT
UID:5b72f32a-8223-4cc2-a5da-83ba64952fc3@ayvalik.bel.tr
DTSTAMP:20260419T125936Z
DTSTART:20241029T090000Z
DTEND:20241103T090200Z
SUMMARY:Ayvalık Uluslararası Zeytin Hasat Festivali
DESCRIPTION:Ayvalık Uluslararası Zeytin Hasat Festivali 1-2-3 Kasımda…\nZeytinin başkenti Ayvalıkta\, dünyada önemli noktalarda olan zeytin ve zeytinyağı markalarımızı\, yerel üreticilerimizin eşsiz ürünlerinin sergilendiği stantları\, sembolik zeytin hasatları\, hasat yarışmaları\, gastronomi etkinlikleri\, uluslararası panelleir\, söyleşileri\, yöresel atölyeleri ve konserleri ile dolu dolu bir festival programını sizlerle paylaşıyoruz.
LOCATION:Kırlangıç Yaşam Merkezi
URL:https://ayvalik.bel.tr/Gundem/EtkinlikDetay?etkinlikId=5b72f32a-8223-4cc2-a5da-83ba64952fc3
END:VEVENT
END:VCALENDAR
